BEGIN:VCALENDAR
VERSION:2.0
PRODID:-//Grace Anglican Church - ECPv6.15.20//NONSGML v1.0//EN
CALSCALE:GREGORIAN
METHOD:PUBLISH
X-WR-CALNAME:Grace Anglican Church
X-ORIGINAL-URL:https://graceanglicanbrantford.ca
X-WR-CALDESC:Events for Grace Anglican Church
REFRESH-INTERVAL;VALUE=DURATION:PT1H
X-Robots-Tag:noindex
X-PUBLISHED-TTL:PT1H
BEGIN:VTIMEZONE
TZID:UTC
BEGIN:STANDARD
TZOFFSETFROM:+0000
TZOFFSETTO:+0000
TZNAME:UTC
DTSTART:20190101T000000
END:STANDARD
END:VTIMEZONE
BEGIN:VEVENT
DTSTART;TZID=UTC:20201202T190000
DTEND;TZID=UTC:20201202T200000
DTSTAMP:20260423T174018
CREATED:20201204T190257Z
LAST-MODIFIED:20201204T190257Z
UID:1804-1606935600-1606939200@graceanglicanbrantford.ca
SUMMARY:Zoom Advent Bible Study
DESCRIPTION:Advent Bible Study – Light In The Darkness\nJoin us on Wednesdays at 7 pm during Advent.  Email Chris Levett (chris.levett70@gmail.com) to get invited to the meeting.
URL:https://graceanglicanbrantford.ca/event/zoom-advent-bible-study/
LOCATION:Grace Anglican Church\, 4 Pearl St\, Brantford\, Ontario\, N3T 3N4
CATEGORIES:Outreach
ATTACH;FMTTYPE=image/jpeg:https://graceanglicanbrantford.ca/wp-content/uploads/2020/11/Light-For-Christ.jpg
END:VEVENT
BEGIN:VEVENT
DTSTART;TZID=UTC:20201122T103000
DTEND;TZID=UTC:20201122T113000
DTSTAMP:20260423T174018
CREATED:20201120T222150Z
LAST-MODIFIED:20201120T222517Z
UID:1604-1606041000-1606044600@graceanglicanbrantford.ca
SUMMARY:Service
DESCRIPTION:
URL:https://graceanglicanbrantford.ca/event/service/
LOCATION:Grace Anglican Church\, 4 Pearl St\, Brantford\, Ontario\, N3T 3N4
CATEGORIES:Service
END:VEVENT
END:VCALENDAR