BEGIN:VCALENDAR
VERSION:2.0
PRODID:-//Grace Anglican Church - ECPv6.15.20//NONSGML v1.0//EN
CALSCALE:GREGORIAN
METHOD:PUBLISH
X-WR-CALNAME:Grace Anglican Church
X-ORIGINAL-URL:https://graceanglicanbrantford.ca
X-WR-CALDESC:Events for Grace Anglican Church
REFRESH-INTERVAL;VALUE=DURATION:PT1H
X-Robots-Tag:noindex
X-PUBLISHED-TTL:PT1H
BEGIN:VTIMEZONE
TZID:UTC
BEGIN:STANDARD
TZOFFSETFROM:+0000
TZOFFSETTO:+0000
TZNAME:UTC
DTSTART:20190101T000000
END:STANDARD
END:VTIMEZONE
BEGIN:VTIMEZONE
TZID:America/Toronto
BEGIN:DAYLIGHT
TZOFFSETFROM:-0500
TZOFFSETTO:-0400
TZNAME:EDT
DTSTART:20190310T070000
END:DAYLIGHT
BEGIN:STANDARD
TZOFFSETFROM:-0400
TZOFFSETTO:-0500
TZNAME:EST
DTSTART:20191103T060000
END:STANDARD
BEGIN:DAYLIGHT
TZOFFSETFROM:-0500
TZOFFSETTO:-0400
TZNAME:EDT
DTSTART:20200308T070000
END:DAYLIGHT
BEGIN:STANDARD
TZOFFSETFROM:-0400
TZOFFSETTO:-0500
TZNAME:EST
DTSTART:20201101T060000
END:STANDARD
BEGIN:DAYLIGHT
TZOFFSETFROM:-0500
TZOFFSETTO:-0400
TZNAME:EDT
DTSTART:20210314T070000
END:DAYLIGHT
BEGIN:STANDARD
TZOFFSETFROM:-0400
TZOFFSETTO:-0500
TZNAME:EST
DTSTART:20211107T060000
END:STANDARD
BEGIN:DAYLIGHT
TZOFFSETFROM:-0500
TZOFFSETTO:-0400
TZNAME:EDT
DTSTART:20220313T070000
END:DAYLIGHT
BEGIN:STANDARD
TZOFFSETFROM:-0400
TZOFFSETTO:-0500
TZNAME:EST
DTSTART:20221106T060000
END:STANDARD
END:VTIMEZONE
BEGIN:VEVENT
DTSTART;TZID=UTC:20201223T193000
DTEND;TZID=UTC:20201223T203000
DTSTAMP:20260423T185942
CREATED:20201204T190614Z
LAST-MODIFIED:20201206T041738Z
UID:1810-1608751800-1608755400@graceanglicanbrantford.ca
SUMMARY:Zoom Advent Bible Study
DESCRIPTION:Advent Bible Study – Light In The Darkness\nJoin us on Wednesdays at 7:30 pm during Advent.  Email Chris Levett (chris.levett70@gmail.com) to get invited to the meeting.
URL:https://graceanglicanbrantford.ca/event/zoom-advent-bible-study-4/
LOCATION:Grace Anglican Church\, 4 Pearl St\, Brantford\, Ontario\, N3T 3N4
CATEGORIES:Outreach
END:VEVENT
BEGIN:VEVENT
DTSTART;VALUE=DATE:20201221
DTEND;VALUE=DATE:20210131
DTSTAMP:20260423T185942
CREATED:20201218T223648Z
LAST-MODIFIED:20210112T004049Z
UID:1941-1608508800-1612051199@graceanglicanbrantford.ca
SUMMARY:In-Person Worship Services Cancelled
DESCRIPTION:Dear friends\, \nIn light of the increasing case counts of COVID-19 throughout our diocese\, Bishop Townshend\, out of care for the health of our parishioners and communities\, has made the decision that the Diocese will reinstitute the Diocese of Huron’s Loving Our Neighbour Red Stage guidelines\, effective immediately.  No in-person worship is permitted in any of our churches until further notice. \nClick here to read the full announcement.
URL:https://graceanglicanbrantford.ca/event/no-services-due-to-covid-19-lock-down/
END:VEVENT
BEGIN:VEVENT
DTSTART;TZID=UTC:20201220T103000
DTEND;TZID=UTC:20201220T113000
DTSTAMP:20260423T185942
CREATED:20201203T042721Z
LAST-MODIFIED:20201204T155547Z
UID:1749-1608460200-1608463800@graceanglicanbrantford.ca
SUMMARY:10:30 Service - We're Open
DESCRIPTION:4th Sunday in Advent\, Holy Communion from the Book of Alternative Services (BAS)\n\n\n\n\nReadings\nReaders\nPrayers\nCounters\nGreeters\n\n\nRomans 16:25-27\nEpistle\nChris L\nRev. David\nDave J\nMary M\n\n\nCanticle 18a\nLiturgy\nRev. David\n\nShirley T\nJanice L\n\n\nLuke 1:26-38\nClergy\nRev. Paul\n\n\nDave J\n\n\n\n\n\nClick here to view readings
URL:https://graceanglicanbrantford.ca/event/1030-service-were-open-3/
END:VEVENT
BEGIN:VEVENT
DTSTART;TZID=UTC:20201216T193000
DTEND;TZID=UTC:20201216T203000
DTSTAMP:20260423T185942
CREATED:20201204T190523Z
LAST-MODIFIED:20201206T041653Z
UID:1808-1608147000-1608150600@graceanglicanbrantford.ca
SUMMARY:Zoom Advent Bible Study
DESCRIPTION:Advent Bible Study – Light In The Darkness\nJoin us on Wednesdays at 7:30 pm during Advent.  Email Chris Levett (chris.levett70@gmail.com) to get invited to the meeting.
URL:https://graceanglicanbrantford.ca/event/zoom-advent-bible-study-3/
LOCATION:Grace Anglican Church\, 4 Pearl St\, Brantford\, Ontario\, N3T 3N4
END:VEVENT
BEGIN:VEVENT
DTSTART;TZID=UTC:20201216T100000
DTEND;TZID=UTC:20201216T110000
DTSTAMP:20260423T185942
CREATED:20201203T043558Z
LAST-MODIFIED:20201203T043558Z
UID:1755-1608112800-1608116400@graceanglicanbrantford.ca
SUMMARY:10 am Service - Cancelled Due To Covid
DESCRIPTION:
URL:https://graceanglicanbrantford.ca/event/10-am-service-cancelled-due-to-covid-2/
END:VEVENT
BEGIN:VEVENT
DTSTART;TZID=UTC:20201213T103000
DTEND;TZID=UTC:20201213T113000
DTSTAMP:20260423T185942
CREATED:20201203T042547Z
LAST-MODIFIED:20201204T155133Z
UID:1747-1607855400-1607859000@graceanglicanbrantford.ca
SUMMARY:10:30 Service - We're Open
DESCRIPTION:3rd Sunday in Advent\, Holy Communion from the Book of Alternative Services (BAS)\n\n\n\n\nReadings\nReaders\nPrayers\nCounters\nGreeters\n\n\n1 Thessalonians 5:16-24\nEpistle\nCatherine S\nRev. David\nHilary B.\nDenzil S.\n\n\nPsalm 126\nLiturgy\nRev. David\n\nMary M.\nDave J.\n\n\nJohn 1:6-8\, 19-28\nClergy\nRev. Paul\n\n\nMary B.\n\n\n\n\n\nClick here to view readings
URL:https://graceanglicanbrantford.ca/event/1030-service-were-open-2/
END:VEVENT
BEGIN:VEVENT
DTSTART;TZID=UTC:20201213T083000
DTEND;TZID=UTC:20201213T093000
DTSTAMP:20260423T185942
CREATED:20201203T042130Z
LAST-MODIFIED:20201203T042130Z
UID:1739-1607848200-1607851800@graceanglicanbrantford.ca
SUMMARY:8:30 Service - Cancelled Due To Covid
DESCRIPTION:
URL:https://graceanglicanbrantford.ca/event/830-service-cancelled-due-to-covid-2/
END:VEVENT
BEGIN:VEVENT
DTSTART;TZID=UTC:20201211T100000
DTEND;TZID=UTC:20201212T160000
DTSTAMP:20260423T185942
CREATED:20201126T180254Z
LAST-MODIFIED:20201204T191035Z
UID:1646-1607680800-1607788800@graceanglicanbrantford.ca
SUMMARY:Christmas Food Drive
DESCRIPTION:On December 11th and 12th\, from 10 am to 4 pm\, we will be holding a food drive for the Brantford Food Bank. \nOur goal this year is to fill a pew (approx. 200 lbs) \nSimply drive up to either the Pearl Street or Albion Street door\, pop your trunk\, and allow the representative to remove your donation. \nClick here to see the flyer
URL:https://graceanglicanbrantford.ca/event/christmas-food-drive/
LOCATION:Grace Anglican Church\, 4 Pearl St\, Brantford\, Ontario\, N3T 3N4
CATEGORIES:Outreach
END:VEVENT
BEGIN:VEVENT
DTSTART;TZID=UTC:20201209T193000
DTEND;TZID=UTC:20201209T203000
DTSTAMP:20260423T185942
CREATED:20201204T190419Z
LAST-MODIFIED:20201206T041606Z
UID:1806-1607542200-1607545800@graceanglicanbrantford.ca
SUMMARY:Zoom Advent Bible Study
DESCRIPTION:Advent Bible Study – Light In The Darkness\nJoin us on Wednesdays at 7:30 pm during Advent.  Email Chris Levett (chris.levett70@gmail.com) to get invited to the meeting.
URL:https://graceanglicanbrantford.ca/event/zoom-advent-bible-study-2/
LOCATION:Grace Anglican Church\, 4 Pearl St\, Brantford\, Ontario\, N3T 3N4
CATEGORIES:Outreach
END:VEVENT
BEGIN:VEVENT
DTSTART;TZID=UTC:20201209T100000
DTEND;TZID=UTC:20201209T110000
DTSTAMP:20260423T185942
CREATED:20201203T043520Z
LAST-MODIFIED:20201203T043520Z
UID:1753-1607508000-1607511600@graceanglicanbrantford.ca
SUMMARY:10 am Service - Cancelled Due To Covid
DESCRIPTION:
URL:https://graceanglicanbrantford.ca/event/10-am-service-cancelled-due-to-covid/
END:VEVENT
BEGIN:VEVENT
DTSTART;TZID=UTC:20201206T103000
DTEND;TZID=UTC:20201206T113000
DTSTAMP:20260423T185942
CREATED:20201203T042501Z
LAST-MODIFIED:20201204T044307Z
UID:1745-1607250600-1607254200@graceanglicanbrantford.ca
SUMMARY:10:30 Service - We're Open
DESCRIPTION:2nd Sunday in Advent\, Holy Communion from the Book of Common Prayer (BCP)\n\n\n\n\nReadings\nReaders\nPrayers\nCounters\nGreeters\n\n\n2 Peter 3:8-15a\nEpistle\nHilary B.\nRev. David\nPeter K.\nMary M.\n\n\nPsalm 85:1-2\, 8-13\nLiturgy\nRev. David\n\nBonnie U.\nJanice L.\n\n\nMark 1:1-8\nClergy\nRev. Paul\n\n\nDave J.\n\n\n\n\n\nClick here to view readings
URL:https://graceanglicanbrantford.ca/event/1030-service-were-open/
LOCATION:Grace Anglican Church\, 4 Pearl St\, Brantford\, Ontario\, N3T 3N4
CATEGORIES:Service
END:VEVENT
BEGIN:VEVENT
DTSTART;TZID=UTC:20201206T083000
DTEND;TZID=UTC:20201206T093000
DTSTAMP:20260423T185942
CREATED:20201203T041838Z
LAST-MODIFIED:20201203T041838Z
UID:1737-1607243400-1607247000@graceanglicanbrantford.ca
SUMMARY:8:30 Service - Cancelled Due To Covid
DESCRIPTION:
URL:https://graceanglicanbrantford.ca/event/830-service-cancelled-due-to-covid/
LOCATION:Grace Anglican Church\, 4 Pearl St\, Brantford\, Ontario\, N3T 3N4
END:VEVENT
BEGIN:VEVENT
DTSTART;TZID=UTC:20201202T190000
DTEND;TZID=UTC:20201202T200000
DTSTAMP:20260423T185942
CREATED:20201204T190257Z
LAST-MODIFIED:20201204T190257Z
UID:1804-1606935600-1606939200@graceanglicanbrantford.ca
SUMMARY:Zoom Advent Bible Study
DESCRIPTION:Advent Bible Study – Light In The Darkness\nJoin us on Wednesdays at 7 pm during Advent.  Email Chris Levett (chris.levett70@gmail.com) to get invited to the meeting.
URL:https://graceanglicanbrantford.ca/event/zoom-advent-bible-study/
LOCATION:Grace Anglican Church\, 4 Pearl St\, Brantford\, Ontario\, N3T 3N4
CATEGORIES:Outreach
ATTACH;FMTTYPE=image/jpeg:https://graceanglicanbrantford.ca/wp-content/uploads/2020/11/Light-For-Christ.jpg
END:VEVENT
BEGIN:VEVENT
DTSTART;TZID=UTC:20201122T103000
DTEND;TZID=UTC:20201122T113000
DTSTAMP:20260423T185942
CREATED:20201120T222150Z
LAST-MODIFIED:20201120T222517Z
UID:1604-1606041000-1606044600@graceanglicanbrantford.ca
SUMMARY:Service
DESCRIPTION:
URL:https://graceanglicanbrantford.ca/event/service/
LOCATION:Grace Anglican Church\, 4 Pearl St\, Brantford\, Ontario\, N3T 3N4
CATEGORIES:Service
END:VEVENT
END:VCALENDAR